BEGIN:VCALENDAR
VERSION:2.0
PRODID:-//Schützenverein Südfelde - Sichere Hand am Waldesrand e.V - ECPv6.15.20//NONSGML v1.0//EN
CALSCALE:GREGORIAN
METHOD:PUBLISH
X-WR-CALNAME:Schützenverein Südfelde - Sichere Hand am Waldesrand e.V
X-ORIGINAL-URL:https://suedfelde.de
X-WR-CALDESC:Veranstaltungen für Schützenverein Südfelde - Sichere Hand am Waldesrand e.V
REFRESH-INTERVAL;VALUE=DURATION:PT1H
X-Robots-Tag:noindex
X-PUBLISHED-TTL:PT1H
BEGIN:VTIMEZONE
TZID:Europe/Berlin
BEGIN:DAYLIGHT
TZOFFSETFROM:+0100
TZOFFSETTO:+0200
TZNAME:CEST
DTSTART:20250330T010000
END:DAYLIGHT
BEGIN:STANDARD
TZOFFSETFROM:+0200
TZOFFSETTO:+0100
TZNAME:CET
DTSTART:20251026T010000
END:STANDARD
BEGIN:DAYLIGHT
TZOFFSETFROM:+0100
TZOFFSETTO:+0200
TZNAME:CEST
DTSTART:20260329T010000
END:DAYLIGHT
BEGIN:STANDARD
TZOFFSETFROM:+0200
TZOFFSETTO:+0100
TZNAME:CET
DTSTART:20261025T010000
END:STANDARD
BEGIN:DAYLIGHT
TZOFFSETFROM:+0100
TZOFFSETTO:+0200
TZNAME:CEST
DTSTART:20270328T010000
END:DAYLIGHT
BEGIN:STANDARD
TZOFFSETFROM:+0200
TZOFFSETTO:+0100
TZNAME:CET
DTSTART:20271031T010000
END:STANDARD
END:VTIMEZONE
BEGIN:VEVENT
DTSTART;VALUE=DATE:20261109
DTEND;VALUE=DATE:20261110
DTSTAMP:20260425T165002
CREATED:20260328T181912Z
LAST-MODIFIED:20260328T181912Z
UID:2574-1794182400-1794268799@suedfelde.de
SUMMARY:Heimatverein Uhrzeit noch offen
DESCRIPTION:
URL:https://suedfelde.de/event/heimatverein-uhrzeit-noch-offen-2/
LOCATION:Schützenhaus Südfelde
END:VEVENT
BEGIN:VEVENT
DTSTART;TZID=Europe/Berlin:20261114T080000
DTEND;TZID=Europe/Berlin:20261114T170000
DTSTAMP:20260425T165002
CREATED:20260318T133559Z
LAST-MODIFIED:20260318T133603Z
UID:2464-1794643200-1794675600@suedfelde.de
SUMMARY:Kreiskönigsball Uhrzeit und Ort noch nicht bekannt
DESCRIPTION:Kreiskönigsball
URL:https://suedfelde.de/event/kreiskoenigsball-uhrzeit-und-ort-noch-nicht-bekannt/
CATEGORIES:Kreiskönigschießen alle Altersklassen
END:VEVENT
BEGIN:VEVENT
DTSTART;VALUE=DATE:20261128
DTEND;VALUE=DATE:20261130
DTSTAMP:20260425T165002
CREATED:20260403T145944Z
LAST-MODIFIED:20260403T145944Z
UID:2650-1795824000-1795996799@suedfelde.de
SUMMARY:Kreismeisterschaft LG in Upphausen
DESCRIPTION:Startzeiten noch nicht bekannt
URL:https://suedfelde.de/event/kreismeisterschaft-lg-in-upphausen/
CATEGORIES:Meisterschaften LG KK LP
END:VEVENT
END:VCALENDAR