BEGIN:VCALENDAR
VERSION:2.0
PRODID:-//Schützenverein Südfelde - Sichere Hand am Waldesrand e.V - ECPv6.15.20//NONSGML v1.0//EN
CALSCALE:GREGORIAN
METHOD:PUBLISH
X-ORIGINAL-URL:https://suedfelde.de
X-WR-CALDESC:Veranstaltungen für Schützenverein Südfelde - Sichere Hand am Waldesrand e.V
REFRESH-INTERVAL;VALUE=DURATION:PT1H
X-Robots-Tag:noindex
X-PUBLISHED-TTL:PT1H
BEGIN:VTIMEZONE
TZID:Europe/Berlin
BEGIN:DAYLIGHT
TZOFFSETFROM:+0100
TZOFFSETTO:+0200
TZNAME:CEST
DTSTART:20250330T010000
END:DAYLIGHT
BEGIN:STANDARD
TZOFFSETFROM:+0200
TZOFFSETTO:+0100
TZNAME:CET
DTSTART:20251026T010000
END:STANDARD
BEGIN:DAYLIGHT
TZOFFSETFROM:+0100
TZOFFSETTO:+0200
TZNAME:CEST
DTSTART:20260329T010000
END:DAYLIGHT
BEGIN:STANDARD
TZOFFSETFROM:+0200
TZOFFSETTO:+0100
TZNAME:CET
DTSTART:20261025T010000
END:STANDARD
BEGIN:DAYLIGHT
TZOFFSETFROM:+0100
TZOFFSETTO:+0200
TZNAME:CEST
DTSTART:20270328T010000
END:DAYLIGHT
BEGIN:STANDARD
TZOFFSETFROM:+0200
TZOFFSETTO:+0100
TZNAME:CET
DTSTART:20271031T010000
END:STANDARD
END:VTIMEZONE
BEGIN:VEVENT
DTSTART;VALUE=DATE:20260704
DTEND;VALUE=DATE:20260706
DTSTAMP:20260421T032507
CREATED:20260403T144741Z
LAST-MODIFIED:20260403T144741Z
UID:2641-1783123200-1783295999@suedfelde.de
SUMMARY:Frei
DESCRIPTION:
URL:https://suedfelde.de/event/frei-3/
CATEGORIES:Vorlagetermine / Nutzung durch Mitglieder
END:VEVENT
BEGIN:VEVENT
DTSTART;TZID=Europe/Berlin:20260711T170000
DTEND;TZID=Europe/Berlin:20260711T170000
DTSTAMP:20260421T032507
CREATED:20260318T133138Z
LAST-MODIFIED:20260415T072035Z
UID:2461-1783789200-1783789200@suedfelde.de
SUMMARY:Schützenfest Messlingen genaue Zeit noch in Klärung
DESCRIPTION:
URL:https://suedfelde.de/event/schuetzenfest-messlingen-genaue-zeit-noch-in-klaerung/
CATEGORIES:Einladung Meßlingen
END:VEVENT
BEGIN:VEVENT
DTSTART;TZID=Europe/Berlin:20260715T180000
DTEND;TZID=Europe/Berlin:20260715T233000
DTSTAMP:20260421T032507
CREATED:20260318T134458Z
LAST-MODIFIED:20260318T134458Z
UID:2472-1784138400-1784158200@suedfelde.de
SUMMARY:Pokalschießen der örtlichen Vereine / Königschießen Südfelde
DESCRIPTION:Unser diesjähriges Königsschießen und das Pokalschießen der örtlichen Vereine findet am 15.07.2026 ab 18.00 Uhr statt.
URL:https://suedfelde.de/event/pokalschiessen-der-oertlichen-vereine-koenigschiessen-suedfelde/
CATEGORIES:diverse Veranstaltungen Südfelde
END:VEVENT
BEGIN:VEVENT
DTSTART;TZID=Europe/Berlin:20260716T080000
DTEND;TZID=Europe/Berlin:20260716T170000
DTSTAMP:20260421T032507
CREATED:20260328T174917Z
LAST-MODIFIED:20260328T174917Z
UID:2556-1784188800-1784221200@suedfelde.de
SUMMARY:Aufbau zum Schützenfest
DESCRIPTION:Arbeitseinsatz und Vorbereitungen zum Schützenfest
URL:https://suedfelde.de/event/aufbau-zum-schuetzenfest/
LOCATION:Schützenhaus Südfelde
CATEGORIES:Arbeitseinsatz Stand,Aufbau - Abbau Veranstaltungen
END:VEVENT
BEGIN:VEVENT
DTSTART;TZID=Europe/Berlin:20260717T163000
DTEND;TZID=Europe/Berlin:20260717T170000
DTSTAMP:20260421T032507
CREATED:20260328T174253Z
LAST-MODIFIED:20260328T174346Z
UID:2551-1784305800-1784307600@suedfelde.de
SUMMARY:Aufbau Schützenfest und aufräumen 2. Abend
DESCRIPTION:Mehrere Helfer zum Aufbau benötigt. Wenn jemand erst später kann\, darf er gern noch dazu stoßen.
URL:https://suedfelde.de/event/aufbau-schuetzenfest-und-aufraeumen/
CATEGORIES:Aufbau - Abbau Veranstaltungen
END:VEVENT
BEGIN:VEVENT
DTSTART;TZID=Europe/Berlin:20260718T163000
DTEND;TZID=Europe/Berlin:20260718T233000
DTSTAMP:20260421T032507
CREATED:20260328T173126Z
LAST-MODIFIED:20260328T173126Z
UID:2549-1784392200-1784417400@suedfelde.de
SUMMARY:Schützenfest in Südfelde
DESCRIPTION:Unser Schützenfest im Ort. 16.30 Uhr Empfang der Vereine mit anschließenden geselligen Stunden.
URL:https://suedfelde.de/event/schuetzenfest-in-suedfelde/
LOCATION:Schützenhaus Südfelde
END:VEVENT
BEGIN:VEVENT
DTSTART;TZID=Europe/Berlin:20260719T100000
DTEND;TZID=Europe/Berlin:20260719T170000
DTSTAMP:20260421T032507
CREATED:20260328T175253Z
LAST-MODIFIED:20260328T175253Z
UID:2560-1784455200-1784480400@suedfelde.de
SUMMARY:Arbeitseinsatz aufräumen
DESCRIPTION:Aufräumen und Resteverzehr
URL:https://suedfelde.de/event/arbeitseinsatz-aufraeumen/
CATEGORIES:Arbeitseinsatz Stand,Aufbau - Abbau Veranstaltungen
END:VEVENT
END:VCALENDAR