BEGIN:VCALENDAR
VERSION:2.0
PRODID:-//Schützenverein Südfelde - Sichere Hand am Waldesrand e.V - ECPv6.15.20//NONSGML v1.0//EN
CALSCALE:GREGORIAN
METHOD:PUBLISH
X-WR-CALNAME:Schützenverein Südfelde - Sichere Hand am Waldesrand e.V
X-ORIGINAL-URL:https://suedfelde.de
X-WR-CALDESC:Veranstaltungen für Schützenverein Südfelde - Sichere Hand am Waldesrand e.V
REFRESH-INTERVAL;VALUE=DURATION:PT1H
X-Robots-Tag:noindex
X-PUBLISHED-TTL:PT1H
BEGIN:VTIMEZONE
TZID:Europe/Berlin
BEGIN:DAYLIGHT
TZOFFSETFROM:+0100
TZOFFSETTO:+0200
TZNAME:CEST
DTSTART:20250330T010000
END:DAYLIGHT
BEGIN:STANDARD
TZOFFSETFROM:+0200
TZOFFSETTO:+0100
TZNAME:CET
DTSTART:20251026T010000
END:STANDARD
BEGIN:DAYLIGHT
TZOFFSETFROM:+0100
TZOFFSETTO:+0200
TZNAME:CEST
DTSTART:20260329T010000
END:DAYLIGHT
BEGIN:STANDARD
TZOFFSETFROM:+0200
TZOFFSETTO:+0100
TZNAME:CET
DTSTART:20261025T010000
END:STANDARD
BEGIN:DAYLIGHT
TZOFFSETFROM:+0100
TZOFFSETTO:+0200
TZNAME:CEST
DTSTART:20270328T010000
END:DAYLIGHT
BEGIN:STANDARD
TZOFFSETFROM:+0200
TZOFFSETTO:+0100
TZNAME:CET
DTSTART:20271031T010000
END:STANDARD
END:VTIMEZONE
BEGIN:VEVENT
DTSTART;VALUE=DATE:20260606
DTEND;VALUE=DATE:20260608
DTSTAMP:20260421T000949
CREATED:20260403T144625Z
LAST-MODIFIED:20260403T144625Z
UID:2639-1780704000-1780876799@suedfelde.de
SUMMARY:Frei
DESCRIPTION:
URL:https://suedfelde.de/event/frei-2/
CATEGORIES:Vorlagetermine / Nutzung durch Mitglieder
END:VEVENT
BEGIN:VEVENT
DTSTART;TZID=Europe/Berlin:20260613T183000
DTEND;TZID=Europe/Berlin:20260613T183000
DTSTAMP:20260421T000949
CREATED:20260414T071129Z
LAST-MODIFIED:20260414T071234Z
UID:2682-1781375400-1781375400@suedfelde.de
SUMMARY:Arbeitseinsatz Todtenhausen Eingangskontrolle Katerfrühstück
DESCRIPTION:Benötigt werden 4 Personen Kasse
URL:https://suedfelde.de/event/arbeitseinsatz-todtenhausen-eingang-und-kasse/
CATEGORIES:Arbeitseinsatz / Dienste
END:VEVENT
END:VCALENDAR