BEGIN:VCALENDAR
VERSION:2.0
PRODID:-//Schützenverein Südfelde - Sichere Hand am Waldesrand e.V - ECPv6.15.20//NONSGML v1.0//EN
CALSCALE:GREGORIAN
METHOD:PUBLISH
X-WR-CALNAME:Schützenverein Südfelde - Sichere Hand am Waldesrand e.V
X-ORIGINAL-URL:https://suedfelde.de
X-WR-CALDESC:Veranstaltungen für Schützenverein Südfelde - Sichere Hand am Waldesrand e.V
REFRESH-INTERVAL;VALUE=DURATION:PT1H
X-Robots-Tag:noindex
X-PUBLISHED-TTL:PT1H
BEGIN:VTIMEZONE
TZID:Europe/Berlin
BEGIN:DAYLIGHT
TZOFFSETFROM:+0100
TZOFFSETTO:+0200
TZNAME:CEST
DTSTART:20250330T010000
END:DAYLIGHT
BEGIN:STANDARD
TZOFFSETFROM:+0200
TZOFFSETTO:+0100
TZNAME:CET
DTSTART:20251026T010000
END:STANDARD
BEGIN:DAYLIGHT
TZOFFSETFROM:+0100
TZOFFSETTO:+0200
TZNAME:CEST
DTSTART:20260329T010000
END:DAYLIGHT
BEGIN:STANDARD
TZOFFSETFROM:+0200
TZOFFSETTO:+0100
TZNAME:CET
DTSTART:20261025T010000
END:STANDARD
BEGIN:DAYLIGHT
TZOFFSETFROM:+0100
TZOFFSETTO:+0200
TZNAME:CEST
DTSTART:20270328T010000
END:DAYLIGHT
BEGIN:STANDARD
TZOFFSETFROM:+0200
TZOFFSETTO:+0100
TZNAME:CET
DTSTART:20271031T010000
END:STANDARD
END:VTIMEZONE
BEGIN:VEVENT
DTSTART;TZID=Europe/Berlin:20260425T080000
DTEND;TZID=Europe/Berlin:20260425T170000
DTSTAMP:20260420T125544
CREATED:20260311T133343Z
LAST-MODIFIED:20260311T144123Z
UID:2135-1777104000-1777136400@suedfelde.de
SUMMARY:Schüler Jugend Wanderpreis
DESCRIPTION:Folgende Helfer bräuchten wir \n\n\nTheke: 2 Personen \n\n\nKüche: 2 Personen \n\n\nStandaufsicht: 2 Schießwarte \n\nzahlreiche Teilnehmer gern auch als Besucher
URL:https://suedfelde.de/event/schueler-jugend-wanderpreis/
CATEGORIES:IG Amtwettkämpfe
END:VEVENT
BEGIN:VEVENT
DTSTART;TZID=Europe/Berlin:20260426T080000
DTEND;TZID=Europe/Berlin:20260426T170000
DTSTAMP:20260420T125544
CREATED:20260311T133404Z
LAST-MODIFIED:20260403T183019Z
UID:2137-1777190400-1777222800@suedfelde.de
SUMMARY:Parys Pokal Mitregentenpokal Egon Stellbrink Pokal IG Königschießen
DESCRIPTION:Folgende Helfer bräuchten wir \n\n\nTheke: 2 Personen \n\n\nKüche: 2 Personen \n\n\nStandaufsicht: 2 Schießwarte \n\nzahlreiche Teilnehmer gern auch als Besucher
URL:https://suedfelde.de/event/schueler-jugend-wanderpreis-2/
CATEGORIES:IG Amtwettkämpfe
END:VEVENT
END:VCALENDAR